BEGIN:VCALENDAR
VERSION:2.0
PRODID:-//Local Christian Business Network - ECPv6.15.20//NONSGML v1.0//EN
CALSCALE:GREGORIAN
METHOD:PUBLISH
X-ORIGINAL-URL:https://localchristianbusinessnetwork.com
X-WR-CALDESC:Events for Local Christian Business Network
REFRESH-INTERVAL;VALUE=DURATION:PT1H
X-Robots-Tag:noindex
X-PUBLISHED-TTL:PT1H
BEGIN:VTIMEZONE
TZID:America/Los_Angeles
BEGIN:DAYLIGHT
TZOFFSETFROM:-0800
TZOFFSETTO:-0700
TZNAME:PDT
DTSTART:20240310T100000
END:DAYLIGHT
BEGIN:STANDARD
TZOFFSETFROM:-0700
TZOFFSETTO:-0800
TZNAME:PST
DTSTART:20241103T090000
END:STANDARD
BEGIN:DAYLIGHT
TZOFFSETFROM:-0800
TZOFFSETTO:-0700
TZNAME:PDT
DTSTART:20250309T100000
END:DAYLIGHT
BEGIN:STANDARD
TZOFFSETFROM:-0700
TZOFFSETTO:-0800
TZNAME:PST
DTSTART:20251102T090000
END:STANDARD
BEGIN:DAYLIGHT
TZOFFSETFROM:-0800
TZOFFSETTO:-0700
TZNAME:PDT
DTSTART:20260308T100000
END:DAYLIGHT
BEGIN:STANDARD
TZOFFSETFROM:-0700
TZOFFSETTO:-0800
TZNAME:PST
DTSTART:20261101T090000
END:STANDARD
END:VTIMEZONE
BEGIN:VEVENT
DTSTART;TZID=America/Los_Angeles:20250909T113000
DTEND;TZID=America/Los_Angeles:20250909T130000
DTSTAMP:20260420T082923
CREATED:20250903T193424Z
LAST-MODIFIED:20250903T200448Z
UID:10157-1757417400-1757422800@localchristianbusinessnetwork.com
SUMMARY:Lunch & Connect
DESCRIPTION:Join us for our Lunch & Connect group for local Christian business owners & professionals. Let’s fellowship\, build relationships\, and learn how we can support each other and work together to grow our businesses and glorify God in the local marketplace. \nLunch and mingling starts at 11:30 am and the meeting begins at 12 pm. \nLunch is available for purchase.We look forward to connecting with everyone!
URL:https://localchristianbusinessnetwork.com/event/lunch-connect-11/
LOCATION:Krazy Otto’s\, 1228 West Avenue I\, Lancaster\, CA\, 93534\, United States
CATEGORIES:Networking Event
ATTACH;FMTTYPE=image/jpeg:https://localchristianbusinessnetwork.com/wp-content/uploads/2025/04/Lunch-Connect-Website-Event.jpg
END:VEVENT
BEGIN:VEVENT
DTSTART;TZID=America/Los_Angeles:20250819T113000
DTEND;TZID=America/Los_Angeles:20250819T130000
DTSTAMP:20260420T082923
CREATED:20250624T014046Z
LAST-MODIFIED:20250724T201916Z
UID:10095-1755603000-1755608400@localchristianbusinessnetwork.com
SUMMARY:Lunch & Connect
DESCRIPTION:Special Guest Speaker:Araceli Castro\n			\n				\n				\n				\n				\n				Financial Literacy God’s Way\n			\n			\n				\n				\n				\n				\n			\n				\n				\n				\n				\n				\n				\n				\n				\n				\n				\n				\n			\n			\n				\n				\n				\n				\n				\n				\n				\n				\n				\n				This week we are blessed to have our guest speaker\, Araceli Castro. Araceli is a visionary leader and passionate advocate for women’s empowerment\, rooted in her faith and commitment to holistic well-being. As CEO of CeliCell Productions\, she leverages over 30 years of experience in leadership development\, financial literacy\, and wellness to inspire women toward financial freedom\, spiritual growth\, physical health\, and personal fulfillment. Through practical guidance\, community support\, and faith-driven principles\, Araceli’s mission is to ignite a global movement where women rise in purpose\, prosperity\, and wholeness. Her work is a testament to the power of faith\, resilience\, and service\, uplifting women to lead with confidence and grace. \nJoin us for our Lunch & Connect group for local Christian business owners & professionals. Let’s fellowship\, build relationships\, and learn how we can support each other and work together to grow our businesses and glorify God in the local marketplace. \nLunch and mingling starts at 11:30 am and the meeting begins at 12 pm. \nLunch is available for purchase.We look forward to connecting with everyone!
URL:https://localchristianbusinessnetwork.com/event/lunch-connect-9/
LOCATION:Texas Cattle Company\, 44206 10th St. West\, Lancaster\, CA\, 93534\, United States
CATEGORIES:Networking Event
ATTACH;FMTTYPE=image/jpeg:https://localchristianbusinessnetwork.com/wp-content/uploads/2025/04/Lunch-Connect-Website-Event.jpg
END:VEVENT
BEGIN:VEVENT
DTSTART;TZID=America/Los_Angeles:20250805T113000
DTEND;TZID=America/Los_Angeles:20250805T130000
DTSTAMP:20260420T082923
CREATED:20250730T235053Z
LAST-MODIFIED:20250730T235122Z
UID:10134-1754393400-1754398800@localchristianbusinessnetwork.com
SUMMARY:Lunch & Connect
DESCRIPTION:Join us for our bi-monthly Lunch & Connect meeting. This is a great opportunity to meet local Christian business owners & professionals. Let’s fellowship\, build relationships\, and learn how we can support each other and work together to grow our businesses and glorify God in the local marketplace. \nLunch and mingling starts at 11:30 am and the meeting begins at 12 pm. \nLunch is available for purchase.We look forward to connecting with everyone!
URL:https://localchristianbusinessnetwork.com/event/lunch-connect-10/
LOCATION:Krazy Otto’s\, 1228 West Avenue I\, Lancaster\, CA\, 93534\, United States
CATEGORIES:Networking Event
ATTACH;FMTTYPE=image/jpeg:https://localchristianbusinessnetwork.com/wp-content/uploads/2025/04/Lunch-Connect-Website-Event.jpg
END:VEVENT
BEGIN:VEVENT
DTSTART;TZID=America/Los_Angeles:20250701T113000
DTEND;TZID=America/Los_Angeles:20250701T130000
DTSTAMP:20260420T082923
CREATED:20250624T013644Z
LAST-MODIFIED:20250624T013727Z
UID:10088-1751369400-1751374800@localchristianbusinessnetwork.com
SUMMARY:Lunch & Connect
DESCRIPTION:Join us for our Lunch & Connect group for local Christian business owners & professionals. Let’s fellowship\, build relationships\, and learn how we can support each other and work together to grow our businesses and glorify God in the local marketplace. \nLunch and mingling starts at 11:30 am and the meeting begins at 12 pm. \nLunch buffet is available for purchase\, along with their regular menu.We look forward to connecting with everyone!
URL:https://localchristianbusinessnetwork.com/event/lunch-connect-8/
LOCATION:La Papillon\, 858 W. Lancaster Blvd.\, Lancaster\, CA\, 93534\, United States
CATEGORIES:Networking Event
ATTACH;FMTTYPE=image/jpeg:https://localchristianbusinessnetwork.com/wp-content/uploads/2025/04/Lunch-Connect-Website-Event.jpg
END:VEVENT
BEGIN:VEVENT
DTSTART;TZID=America/Los_Angeles:20250617T113000
DTEND;TZID=America/Los_Angeles:20250617T130000
DTSTAMP:20260420T082923
CREATED:20250529T210705Z
LAST-MODIFIED:20250605T234801Z
UID:10067-1750159800-1750165200@localchristianbusinessnetwork.com
SUMMARY:Lunch & Connect
DESCRIPTION:This week’s meeting will feature a special guest speaker\, Erika Alverd\, who will be joining us to speak about Time Management. \nJoin us for our Lunch & Connect group for local Christian business owners & professionals. Let’s fellowship\, build relationships\, and learn how we can support each other and work together to grow our businesses and glorify God in the local marketplace. \nLunch and mingling starts at 11:30 am and the meeting begins at 12 pm. \nLunch buffet is available for purchase\, along with their regular menu.We look forward to connecting with everyone!
URL:https://localchristianbusinessnetwork.com/event/lunch-connect-7/
LOCATION:La Papillon\, 858 W. Lancaster Blvd.\, Lancaster\, CA\, 93534\, United States
CATEGORIES:Networking Event
ATTACH;FMTTYPE=image/jpeg:https://localchristianbusinessnetwork.com/wp-content/uploads/2025/04/Lunch-Connect-Website-Event.jpg
END:VEVENT
BEGIN:VEVENT
DTSTART;TZID=America/Los_Angeles:20250603T113000
DTEND;TZID=America/Los_Angeles:20250603T130000
DTSTAMP:20260420T082923
CREATED:20250529T205422Z
LAST-MODIFIED:20250529T205959Z
UID:10060-1748950200-1748955600@localchristianbusinessnetwork.com
SUMMARY:Lunch & Connect
DESCRIPTION:Join us for our Lunch & Connect group for local Christian business owners & professionals. Let’s fellowship\, build relationships\, and learn how we can support each other and work together to grow our businesses and glorify God in the local marketplace. \nLunch and mingling starts at 11:30 am and the meeting begins at 12 pm. \nLunch buffet is available for purchase\, along with their regular menu.We look forward to connecting with everyone!
URL:https://localchristianbusinessnetwork.com/event/lunch-connect-6/
LOCATION:La Papillon\, 858 W. Lancaster Blvd.\, Lancaster\, CA\, 93534\, United States
CATEGORIES:Networking Event
ATTACH;FMTTYPE=image/jpeg:https://localchristianbusinessnetwork.com/wp-content/uploads/2025/04/Lunch-Connect-Website-Event.jpg
END:VEVENT
BEGIN:VEVENT
DTSTART;TZID=America/Los_Angeles:20250520T113000
DTEND;TZID=America/Los_Angeles:20250520T130000
DTSTAMP:20260420T082923
CREATED:20250425T021529Z
LAST-MODIFIED:20250425T021822Z
UID:10039-1747740600-1747746000@localchristianbusinessnetwork.com
SUMMARY:Lunch & Connect
DESCRIPTION:Join us for our Lunch & Connect group for local Christian business owners & professionals. Let’s fellowship\, build relationships\, and learn how we can support each other and work together to grow our businesses and glorify God in the local marketplace. \nLunch and mingling starts at 11:30 am and the meeting begins at 12 pm. \nLunch buffet is available for purchase\, along with their regular menu.We look forward to connecting with everyone!
URL:https://localchristianbusinessnetwork.com/event/lunch-connect-5/
LOCATION:La Papillon\, 858 W. Lancaster Blvd.\, Lancaster\, CA\, 93534\, United States
CATEGORIES:Networking Event
ATTACH;FMTTYPE=image/jpeg:https://localchristianbusinessnetwork.com/wp-content/uploads/2025/04/Lunch-Connect-Website-Event.jpg
END:VEVENT
BEGIN:VEVENT
DTSTART;TZID=America/Los_Angeles:20250506T113000
DTEND;TZID=America/Los_Angeles:20250506T130000
DTSTAMP:20260420T082923
CREATED:20250425T020400Z
LAST-MODIFIED:20250425T020938Z
UID:10032-1746531000-1746536400@localchristianbusinessnetwork.com
SUMMARY:Lunch & Connect
DESCRIPTION:Join us for our Lunch & Connect group for local Christian business owners & professionals. Fellowship\, build relationships and learn how we can support each other and work together to grow our businesses and glorify God in the local marketplace. \nLunch and mingling starts at 11:30 am and the meeting begins at 12 pm. \nLunch buffet is available for purchase\, along with their regular menu.We look forward to connecting with everyone!
URL:https://localchristianbusinessnetwork.com/event/lunch-connect-4/
LOCATION:La Papillon\, 858 W. Lancaster Blvd.\, Lancaster\, CA\, 93534\, United States
CATEGORIES:Networking Event
ATTACH;FMTTYPE=image/jpeg:https://localchristianbusinessnetwork.com/wp-content/uploads/2025/04/Lunch-Connect-Website-Event.jpg
END:VEVENT
BEGIN:VEVENT
DTSTART;TZID=America/Los_Angeles:20250421T113000
DTEND;TZID=America/Los_Angeles:20250421T130000
DTSTAMP:20260420T082923
CREATED:20250324T192712Z
LAST-MODIFIED:20250324T192718Z
UID:10008-1745235000-1745240400@localchristianbusinessnetwork.com
SUMMARY:Lunch & Connect
DESCRIPTION:Join us for our Lunch & Connect group for local Christian business owners & professionals. Meet new people\, build relationships and learn how we can support each other and work together to grow our businesses and glorify God in the local marketplace. \nLunch and mingling starts at 11:30 am and the meeting begins at 12 pm. \nLunch buffet is available for purchase\, along with their regular menu.We look forward to connecting with everyone!
URL:https://localchristianbusinessnetwork.com/event/lunch-connect-3/
LOCATION:La Papillon\, 858 W. Lancaster Blvd.\, Lancaster\, CA\, 93534\, United States
CATEGORIES:Networking Event
ATTACH;FMTTYPE=image/png:https://localchristianbusinessnetwork.com/wp-content/uploads/2025/03/500x500-lunch-connect-2.png
END:VEVENT
BEGIN:VEVENT
DTSTART;TZID=America/Los_Angeles:20250407T113000
DTEND;TZID=America/Los_Angeles:20250407T130000
DTSTAMP:20260420T082923
CREATED:20250324T190658Z
LAST-MODIFIED:20250324T192134Z
UID:10002-1744025400-1744030800@localchristianbusinessnetwork.com
SUMMARY:Lunch & Connect
DESCRIPTION:Join us for our Lunch & Connect group for local Christian business owners & professionals. Meet new people\, build relationships and learn how we can support each other and work together to grow our businesses and glorify God in the local marketplace. \nLunch and mingling starts at 11:30 am and the meeting begins at 12 pm. \nLunch buffet is available for purchase\, along with their regular menu.We look forward to connecting with everyone!
URL:https://localchristianbusinessnetwork.com/event/lunch-connect-2/
LOCATION:La Papillon\, 858 W. Lancaster Blvd.\, Lancaster\, CA\, 93534\, United States
CATEGORIES:Networking Event
ATTACH;FMTTYPE=image/png:https://localchristianbusinessnetwork.com/wp-content/uploads/2025/03/500x500-lunch-connect-2.png
END:VEVENT
BEGIN:VEVENT
DTSTART;TZID=America/Los_Angeles:20250317T113000
DTEND;TZID=America/Los_Angeles:20250317T130000
DTSTAMP:20260420T082923
CREATED:20250305T192645Z
LAST-MODIFIED:20250305T214218Z
UID:9991-1742211000-1742216400@localchristianbusinessnetwork.com
SUMMARY:Lunch & Connect
DESCRIPTION:Join us for our Lunch & Connect group for local Christian business owners & professionals. Meet new people\, build relationships and learn how we can support each other and work together to grow our businesses and glorify God in the local marketplace. \nLunch and mingling starts at 11:30 am and the meeting begins at 12 pm. \nLunch buffet is available for purchases\, along with their regular menu.We look forward to connecting with everyone!
URL:https://localchristianbusinessnetwork.com/event/lunch-connect/
LOCATION:La Papillon\, 858 W. Lancaster Blvd.\, Lancaster\, CA\, 93534\, United States
CATEGORIES:Networking Event
ATTACH;FMTTYPE=image/png:https://localchristianbusinessnetwork.com/wp-content/uploads/2025/03/lunch-connect.png
ORGANIZER;CN="LCBN":MAILTO:support@localchristianbusinessnetwork.com
END:VEVENT
BEGIN:VEVENT
DTSTART;TZID=America/Los_Angeles:20250303T113000
DTEND;TZID=America/Los_Angeles:20250303T130000
DTSTAMP:20260420T082923
CREATED:20250212T061642Z
LAST-MODIFIED:20250213T203058Z
UID:9964-1741001400-1741006800@localchristianbusinessnetwork.com
SUMMARY:Lunch & Connect Networking Event
DESCRIPTION:Join us for our first Lunch & Connect group for local Christian business owners & professionals. Meet new people\, build relationships and learn how we can support each other and work together to grow our businesses and glorify God in the local marketplace. \nLunch buffet is available for purchases\, along with their regular menu.We look forward to connecting with everyone!
URL:https://localchristianbusinessnetwork.com/event/lunch-connect-networking-event/
LOCATION:La Papillon\, 858 W. Lancaster Blvd.\, Lancaster\, CA\, 93534\, United States
CATEGORIES:Networking Event
ATTACH;FMTTYPE=image/png:https://localchristianbusinessnetwork.com/wp-content/uploads/2025/02/500x500-Lunch-Connect.png
ORGANIZER;CN="LCBN":MAILTO:support@localchristianbusinessnetwork.com
END:VEVENT
END:VCALENDAR